BEGIN:VCALENDAR
VERSION:2.0
PRODID:-//Catholic Cemeteries of the Archdiocese of Miami - ECPv5.14.1//NONSGML v1.0//EN
CALSCALE:GREGORIAN
METHOD:PUBLISH
X-WR-CALNAME:Catholic Cemeteries of the Archdiocese of Miami
X-ORIGINAL-URL:https://www.catholiccemeteriesmiami.org
X-WR-CALDESC:Events for Catholic Cemeteries of the Archdiocese of Miami
BEGIN:VTIMEZONE
TZID:America/New_York
BEGIN:DAYLIGHT
TZOFFSETFROM:-0500
TZOFFSETTO:-0400
TZNAME:EDT
DTSTART:20180311T070000
END:DAYLIGHT
BEGIN:STANDARD
TZOFFSETFROM:-0400
TZOFFSETTO:-0500
TZNAME:EST
DTSTART:20181104T060000
END:STANDARD
END:VTIMEZONE
BEGIN:VEVENT
DTSTART;TZID=America/New_York:20181102T100000
DTEND;TZID=America/New_York:20181102T120000
DTSTAMP:20260419T190602
CREATED:20181004T175039Z
LAST-MODIFIED:20181005T135837Z
UID:1185-1541152800-1541160000@www.catholiccemeteriesmiami.org
SUMMARY:All Souls Day Mass at Our Lady of Mercy Cemetery
DESCRIPTION:
URL:https://www.catholiccemeteriesmiami.org/events/all-souls-day-mass-at-our-lady-of-mercy/
LOCATION:Our Lady of Guadalupe Church\, 11691 NW 25th Street\, Doral\, FL\, 33172\, United States
ATTACH;FMTTYPE=image/jpeg:https://www.catholiccemeteriesmiami.org/wp-content/uploads/2018/10/All-Souls-Day-Mass_header-crop.jpg
END:VEVENT
END:VCALENDAR