BEGIN:VCALENDAR
VERSION:2.0
PRODID:-//Catholic Cemeteries of the Archdiocese of Miami - ECPv5.14.1//NONSGML v1.0//EN
CALSCALE:GREGORIAN
METHOD:PUBLISH
X-WR-CALNAME:Catholic Cemeteries of the Archdiocese of Miami
X-ORIGINAL-URL:https://www.catholiccemeteriesmiami.org
X-WR-CALDESC:Events for Catholic Cemeteries of the Archdiocese of Miami
BEGIN:VTIMEZONE
TZID:America/New_York
BEGIN:DAYLIGHT
TZOFFSETFROM:-0500
TZOFFSETTO:-0400
TZNAME:EDT
DTSTART:20190310T070000
END:DAYLIGHT
BEGIN:STANDARD
TZOFFSETFROM:-0400
TZOFFSETTO:-0500
TZNAME:EST
DTSTART:20191103T060000
END:STANDARD
END:VTIMEZONE
BEGIN:VEVENT
DTSTART;TZID=America/New_York:20190706T100000
DTEND;TZID=America/New_York:20190706T120000
DTSTAMP:20260419T174048
CREATED:20190605T152453Z
LAST-MODIFIED:20190605T152635Z
UID:1624-1562407200-1562414400@www.catholiccemeteriesmiami.org
SUMMARY:Bilingual Memorial Mass at Our Lady of Mercy Cemetery
DESCRIPTION:Join us on Saturday\, July 6th. at Our Lady of Mercy Catholic Cemetery for our Bilingual Memorial Mass \nMass will be held in the Ascension Mausoleum Chapel at 10am\, with Fr. Pedro Corces as the celebrant. \nThis Memorial Mass is open to anyone who wants to come and pray for the deceased members of their families and dedicate a few moments to honor them with love and prayer. \nIf you have any questions\, feedback or requests\, please contact our Events Organizer\, Loly Avila. \n  \nOrganizer: \nName: Loly Avila\nPhone: 305-357-5750\nEmail: mavila2@chsfla.com
URL:https://www.catholiccemeteriesmiami.org/events/bilingual-memorial-mass-at-our-lady-of-mercy-cemetery/
LOCATION:Our Lady of Mercy Cemetery\, 11411 Northwest 25 Street\, Miami\, FL\, 33172\, United States
ATTACH;FMTTYPE=image/jpeg:https://www.catholiccemeteriesmiami.org/wp-content/uploads/2018/10/holyday_events.jpg
END:VEVENT
END:VCALENDAR