BEGIN:VCALENDAR
VERSION:2.0
PRODID:-//Catholic Cemeteries of the Archdiocese of Miami - ECPv5.14.1//NONSGML v1.0//EN
CALSCALE:GREGORIAN
METHOD:PUBLISH
X-WR-CALNAME:Catholic Cemeteries of the Archdiocese of Miami
X-ORIGINAL-URL:https://www.catholiccemeteriesmiami.org
X-WR-CALDESC:Events for Catholic Cemeteries of the Archdiocese of Miami
BEGIN:VTIMEZONE
TZID:America/New_York
BEGIN:DAYLIGHT
TZOFFSETFROM:-0500
TZOFFSETTO:-0400
TZNAME:EDT
DTSTART:20190310T070000
END:DAYLIGHT
BEGIN:STANDARD
TZOFFSETFROM:-0400
TZOFFSETTO:-0500
TZNAME:EST
DTSTART:20191103T060000
END:STANDARD
END:VTIMEZONE
BEGIN:VEVENT
DTSTART;TZID=America/New_York:20190504T100000
DTEND;TZID=America/New_York:20190504T110000
DTSTAMP:20260419T174132
CREATED:20190401T162050Z
LAST-MODIFIED:20190430T194451Z
UID:1496-1556964000-1556967600@www.catholiccemeteriesmiami.org
SUMMARY:Our Lady of Mercy Cemetery Bilingual Memorial Mass
DESCRIPTION:Join us on Saturday\, May 4th at Our Lady of Mercy Cemetery for our Bilingual Memorial Mass. \nMass will be held in the Ascension Mausoleum at 10 AM\, with Fr. Powel Duda as the celebrant. \nThis Memorial Mass is open to anyone who wants to come and pray for the deceased members of their family and dedicate a few moments to honor them with love and prayer. \nClick here for the names of the loved ones being honored at our May 4th Memorial Mass. \nIf you have questions\, feedback or requests please contact our Event Organizer\, Loly Avila. \nOrganizer\nName: Loly Avila\nPhone: (305) 357-5750\nEmail: mavila2@chsfla.com
URL:https://www.catholiccemeteriesmiami.org/events/our-lady-of-mercy-cemetery-bilingual-memorial-mass-5/
LOCATION:Our Lady of Mercy Cemetery\, 11411 Northwest 25 Street\, Miami\, FL\, 33172\, United States
ATTACH;FMTTYPE=image/jpeg:https://www.catholiccemeteriesmiami.org/wp-content/uploads/2018/06/6_news_holy-day-tiles-website_1440x440.jpg
END:VEVENT
END:VCALENDAR