BEGIN:VCALENDAR
VERSION:2.0
PRODID:-//Catholic Cemeteries of the Archdiocese of Miami - ECPv5.14.1//NONSGML v1.0//EN
CALSCALE:GREGORIAN
METHOD:PUBLISH
X-WR-CALNAME:Catholic Cemeteries of the Archdiocese of Miami
X-ORIGINAL-URL:https://www.catholiccemeteriesmiami.org
X-WR-CALDESC:Events for Catholic Cemeteries of the Archdiocese of Miami
BEGIN:VTIMEZONE
TZID:America/New_York
BEGIN:DAYLIGHT
TZOFFSETFROM:-0500
TZOFFSETTO:-0400
TZNAME:EDT
DTSTART:20190310T070000
END:DAYLIGHT
BEGIN:STANDARD
TZOFFSETFROM:-0400
TZOFFSETTO:-0500
TZNAME:EST
DTSTART:20191103T060000
END:STANDARD
END:VTIMEZONE
BEGIN:VEVENT
DTSTART;VALUE=DATE:20190720
DTEND;VALUE=DATE:20190722
DTSTAMP:20260419T190926
CREATED:20190617T120029Z
LAST-MODIFIED:20190717T175228Z
UID:1597-1563580800-1563753599@www.catholiccemeteriesmiami.org
SUMMARY:Our Lady of Mercy Cemetery Pre-Need Team at Our Lady of the Holy Rosary-St. Richard Church
DESCRIPTION:The Pre Need team from Our Lady of Mercy Cemetery will be giving out information at Our Lady of the Holy Rosary-St. Richard Church this weekend!  \nPlease make sure you stop by and meet with one of our Counselors to receive exclusive and personalized information on our pre-planning services. \n\n\n\nWeekend Masses\n\n\nWeekday\nTime\nLanguage\n\n\n\n\nSaturday Vigil\n5:00 PM\nEnglish\n\n\nSunday\n7:00 AM\nEnglish\n\n\nSunday\n9:00 AM\nEnglish\n\n\nSunday\n10:30 AM\nEnglish\n\n\nSunday\n12:30 PM\nSpanish\n\n\nSunday\n5:00 PM\nEnglish
URL:https://www.catholiccemeteriesmiami.org/events/our-lady-of-mercy-cemetery-pre-need-team-at-prince-of-peace-catholic-church/
LOCATION:Our Lady of the Holy Rosary-St. Richard Church\, 7500 SW 152nd Street\, Palmetto Bay\, FL\, 33157\, United States
ATTACH;FMTTYPE=image/jpeg:https://www.catholiccemeteriesmiami.org/wp-content/uploads/2018/06/6_news_holy-day-tiles-website_1440x440.jpg
END:VEVENT
END:VCALENDAR