BEGIN:VCALENDAR
VERSION:2.0
PRODID:-//Catholic Cemeteries of the Archdiocese of Miami - ECPv5.14.1//NONSGML v1.0//EN
CALSCALE:GREGORIAN
METHOD:PUBLISH
X-WR-CALNAME:Catholic Cemeteries of the Archdiocese of Miami
X-ORIGINAL-URL:https://www.catholiccemeteriesmiami.org
X-WR-CALDESC:Events for Catholic Cemeteries of the Archdiocese of Miami
BEGIN:VTIMEZONE
TZID:America/New_York
BEGIN:DAYLIGHT
TZOFFSETFROM:-0500
TZOFFSETTO:-0400
TZNAME:EDT
DTSTART:20190310T070000
END:DAYLIGHT
BEGIN:STANDARD
TZOFFSETFROM:-0400
TZOFFSETTO:-0500
TZNAME:EST
DTSTART:20191103T060000
END:STANDARD
END:VTIMEZONE
BEGIN:VEVENT
DTSTART;TZID=America/New_York:20190207T180000
DTEND;TZID=America/New_York:20190210T230000
DTSTAMP:20260419T204034
CREATED:20190206T211625Z
LAST-MODIFIED:20190206T211625Z
UID:1358-1549562400-1549839600@www.catholiccemeteriesmiami.org
SUMMARY:Our Lady of Mercy Cemetery Pre-Need Team at the 2019 Mother of our Redeemer Festival
DESCRIPTION:Save the date! The Pre Need team from Our Lady of Mercy Cemetery will be giving out information at the 2019 Annual Mother of Our Redeemer Catholic Church Carnival this weekend\, February 7th – 10th! \nPlease make sure you stop by and meet with one of our Counselors to receive exclusive and personalized information on our pre-planning services. \nDon’t forget to ask our Family Counselors for your 2019 calendar! \nTime\nFriday and Thursday: 6 pm to 11 pm\nSaturday and Sunday: Noon to 11 pm \nName: Maria Avila\nPhone: (305) 357-5750\nEmail: mavila2@chsfla.com
URL:https://www.catholiccemeteriesmiami.org/events/our-lady-of-mercy-cemetery-pre-need-team-at-the-2019-mother-of-our-redeemer-festival/
LOCATION:Mother of Our Redeemer Catholic Church\, 8445 NW 186th St\, Hialeah\, FL\, 33015\, United States
ATTACH;FMTTYPE=image/jpeg:https://www.catholiccemeteriesmiami.org/wp-content/uploads/2019/02/Mother-of-Our-Redeemer.jpg
END:VEVENT
END:VCALENDAR