BEGIN:VCALENDAR
VERSION:2.0
PRODID:-//Catholic Cemeteries of the Archdiocese of Miami - ECPv5.14.1//NONSGML v1.0//EN
CALSCALE:GREGORIAN
METHOD:PUBLISH
X-WR-CALNAME:Catholic Cemeteries of the Archdiocese of Miami
X-ORIGINAL-URL:https://www.catholiccemeteriesmiami.org
X-WR-CALDESC:Events for Catholic Cemeteries of the Archdiocese of Miami
BEGIN:VTIMEZONE
TZID:America/New_York
BEGIN:DAYLIGHT
TZOFFSETFROM:-0500
TZOFFSETTO:-0400
TZNAME:EDT
DTSTART:20190310T070000
END:DAYLIGHT
BEGIN:STANDARD
TZOFFSETFROM:-0400
TZOFFSETTO:-0500
TZNAME:EST
DTSTART:20191103T060000
END:STANDARD
END:VTIMEZONE
BEGIN:VEVENT
DTSTART;VALUE=DATE:20190914
DTEND;VALUE=DATE:20190916
DTSTAMP:20260419T174314
CREATED:20190911T183101Z
LAST-MODIFIED:20190911T183159Z
UID:1736-1568419200-1568591999@www.catholiccemeteriesmiami.org
SUMMARY:Our Lady of Mercy Cemetery Pre-Need Team Family Counselors at Immaculate Conception Church
DESCRIPTION:Our Lady of Mercy Cemetery Pre-Need Team will be giving out information at Immaculate Conception Church this weekend.  \nPlease make sure you stop by and meet with one of our Counselors to receive exclusive and personalized information on our pre-planning services. \n  \n\n\n\nWeekend Mass Schedule:\n\n\nWeekday\nTime\nLanguage\n\n\n\n\n\nSaturday Vigil\n5:00 PM\nEnglish\n\n\n\nSaturday Vigil\n6:30 PM\nSpanish\n\n\n\nSunday\n8:00 AM\nEnglish\n\n\n\nSunday\n9:30 AM\nSpanish\n\n\n\nSunday\n11:00 AM\nEnglish\n\n\n\nSunday\n12:30 PM\nSpanish\n\n\n\nSunday\n7:30 PM\nSpanish\n\n\n\n\n\nOrganizer\nName: Loly Avila\nPhone: (305) 357-5750\nEmail: mavila2@chsfla.com
URL:https://www.catholiccemeteriesmiami.org/events/our-lady-of-mercy-cemetery-pre-need-team-family-counselors-at-immaculate-conception-church/
LOCATION:Immaculate Conception Church\, 4497 West 1st Avenue\, Hialeah\, FL\, 33012\, United States
ATTACH;FMTTYPE=image/jpeg:https://www.catholiccemeteriesmiami.org/wp-content/uploads/2019/09/immaculate-conception.jpg
END:VEVENT
END:VCALENDAR