BEGIN:VCALENDAR
VERSION:2.0
PRODID:-//Catholic Cemeteries of the Archdiocese of Miami - ECPv5.14.1//NONSGML v1.0//EN
CALSCALE:GREGORIAN
METHOD:PUBLISH
X-WR-CALNAME:Catholic Cemeteries of the Archdiocese of Miami
X-ORIGINAL-URL:https://www.catholiccemeteriesmiami.org
X-WR-CALDESC:Events for Catholic Cemeteries of the Archdiocese of Miami
BEGIN:VTIMEZONE
TZID:America/New_York
BEGIN:DAYLIGHT
TZOFFSETFROM:-0500
TZOFFSETTO:-0400
TZNAME:EDT
DTSTART:20190310T070000
END:DAYLIGHT
BEGIN:STANDARD
TZOFFSETFROM:-0400
TZOFFSETTO:-0500
TZNAME:EST
DTSTART:20191103T060000
END:STANDARD
END:VTIMEZONE
BEGIN:VEVENT
DTSTART;TZID=America/New_York:20190216T170000
DTEND;TZID=America/New_York:20190217T160000
DTSTAMP:20260419T202931
CREATED:20190213T210824Z
LAST-MODIFIED:20190213T211552Z
UID:1383-1550336400-1550419200@www.catholiccemeteriesmiami.org
SUMMARY:Our Lady Queen of Heaven Cemetery Pre-Need Team at St. Bernard Catholic Church this Weekend
DESCRIPTION:We invite you to join us for Masses at St. Bernard Church.  \nWeekend Masses \nSaturday Vigil   5:00 PM     English\nSunday               8:00 AM    English\nSunday              10:00 AM   English\nSunday             12:00 PM    English\nSunday              2:00 PM     Spanish \nOrganizer\nName: Christa Chambers\nPhone: (954) 972-1234\nEmail: cchambers@chsfla.com \nPlease make sure you stop by and meet with one of our Counselors to receive valuable information about pre-planning with our Cemeteries.\nTime: Stop by after any of the Masses\nLocation: 8279 Sunset Strip\, Sunrise\, FL 33322
URL:https://www.catholiccemeteriesmiami.org/events/our-lady-queen-of-heaven-cemetery-pre-need-team-at-st-bernard-catholic-church-this-weekend/
LOCATION:St. Bernard Catholic Church\, 8279 Sunset Strip\, Sunrise\, FL\, 33322
END:VEVENT
END:VCALENDAR