BEGIN:VCALENDAR
VERSION:2.0
PRODID:-//Catholic Cemeteries of the Archdiocese of Miami - ECPv5.14.1//NONSGML v1.0//EN
CALSCALE:GREGORIAN
METHOD:PUBLISH
X-WR-CALNAME:Catholic Cemeteries of the Archdiocese of Miami
X-ORIGINAL-URL:https://www.catholiccemeteriesmiami.org
X-WR-CALDESC:Events for Catholic Cemeteries of the Archdiocese of Miami
BEGIN:VTIMEZONE
TZID:America/New_York
BEGIN:DAYLIGHT
TZOFFSETFROM:-0500
TZOFFSETTO:-0400
TZNAME:EDT
DTSTART:20190310T070000
END:DAYLIGHT
BEGIN:STANDARD
TZOFFSETFROM:-0400
TZOFFSETTO:-0500
TZNAME:EST
DTSTART:20191103T060000
END:STANDARD
END:VTIMEZONE
BEGIN:VEVENT
DTSTART;TZID=America/New_York:20190720T080000
DTEND;TZID=America/New_York:20190721T170000
DTSTAMP:20260419T202845
CREATED:20190517T193114Z
LAST-MODIFIED:20190717T173740Z
UID:1594-1563609600-1563728400@www.catholiccemeteriesmiami.org
SUMMARY:Our Lady Queen of Heaven Pre-Need Team at St. Maximilian Kolbe Catholic Church
DESCRIPTION:The Pre Need team from Our Lady Queen of Heaven Cemetery will be giving out information at St. Maximilian Kolbe Catholic Church this weekend!  \nPlease make sure you stop by and meet with one of our Counselors to receive exclusive and personalized information on our pre-planning services. \n\n\n\nWeekend Masses\n\n\nWeekday\nTime\nLanguage\n\n\n\n\nSaturday Vigil\n5:00 PM\nEnglish\n\n\nSaturday Vigil\n7:00 PM\nSpanish\n\n\nSunday\n8:00 AM\nEnglish\n\n\nSunday\n9:30 AM\nFor deaf\, blind\, disabled\n\n\nSunday\n9:30 AM\nEnglish\n\n\nSunday\n11:00 AM\nEnglish\n\n\nSunday\n12:30 PM\nEnglish\n\n\nSunday\n6:00 PM\nEnglish
URL:https://www.catholiccemeteriesmiami.org/events/our-lady-queen-of-heaven-pre-need-team-at-st-maximilian-kolbe-catholic-church/
LOCATION:St. Maximilian Kolbe Catholic Church\, 701 N Hiatus Rd\, Pembroke Pines\, FL\, 33026\, United States
ATTACH;FMTTYPE=image/jpeg:https://www.catholiccemeteriesmiami.org/wp-content/uploads/2018/06/6_news_holy-day-tiles-website_1440x440.jpg
END:VEVENT
END:VCALENDAR